BEGIN:VCALENDAR
PRODID:-//Microsoft Corporation//Outlook 12.0 MIMEDIR//EN
VERSION:2.0
CALSCALE:GREGORIAN
BEGIN:VEVENT
UID: 7620c146-cb49-4d6f-9a32-e6c0ec925852
SUMMARY:UPT teemade teatamine, avalduste esitamine Moodles (11.kl.)
DTSTAMP:20240916T000000
DTSTART:20240916T000000
DTEND:20240916T235959
LOCATION:
DESCRIPTION: <p><strong>Link: </strong>https://nrg.edu.ee/et/sundmuste-kalender/upt-teemade-teatamine-avalduste-esitamine-moodles-11kl</p><p><strong>Hind: </strong></p>
STATUS:CONFIRMED
SEQUENCE:3
X-ALT-DESC;FMTTYPE=text/html:<p><strong>Link: </strong>https://nrg.edu.ee/et/sundmuste-kalender/upt-teemade-teatamine-avalduste-esitamine-moodles-11kl</p><p><strong>Hind: </strong></p>
X-MICROSOFT-CDO-BUSYSTATUS:OOF
X-MICROSOFT-CDO-IMPORTANCE:1
X-MICROSOFT-DISALLOW-COUNTER:FALSE
X-MS-OLK-ALLOWEXTERNCHECK:TRUE
X-MS-OLK-CONFTYPE:0
X-MICROSOFT-CDO-ALLDAYEVENT:
X-MICROSOFT-MSNCALENDAR-ALLDAYEVENT:
END:VEVENT
END:VCALENDAR