BEGIN:VCALENDAR
PRODID:-//Microsoft Corporation//Outlook 12.0 MIMEDIR//EN
VERSION:2.0
CALSCALE:GREGORIAN
BEGIN:VEVENT
UID: b7e13ce6-fc3b-44bd-b6b3-50eae7f5ee43
SUMMARY:Inglise keele olümpiaadi piirkonnavoor
DTSTAMP:20240124
DTSTART:20240124
DTEND:20240125
DURATION:P1D
LOCATION:
DESCRIPTION: <p><strong>Link: </strong>https://nrg.edu.ee/et/sundmuste-kalender/inglise-keele-olumpiaadi-piirkonnavoor-1</p><p><strong>Hind: </strong></p>
STATUS:CONFIRMED
SEQUENCE:3
X-ALT-DESC;FMTTYPE=text/html:<p><strong>Link: </strong>https://nrg.edu.ee/et/sundmuste-kalender/inglise-keele-olumpiaadi-piirkonnavoor-1</p><p><strong>Hind: </strong></p>
X-MICROSOFT-CDO-BUSYSTATUS:OOF
X-MICROSOFT-CDO-IMPORTANCE:1
X-MICROSOFT-DISALLOW-COUNTER:FALSE
X-MS-OLK-ALLOWEXTERNCHECK:TRUE
X-MS-OLK-CONFTYPE:0
X-MICROSOFT-CDO-ALLDAYEVENT:1
X-MICROSOFT-MSNCALENDAR-ALLDAYEVENT:1
END:VEVENT
END:VCALENDAR