BEGIN:VCALENDAR
PRODID:-//Microsoft Corporation//Outlook 12.0 MIMEDIR//EN
VERSION:2.0
CALSCALE:GREGORIAN
BEGIN:VEVENT
UID: 9f70511c-a6ce-4261-8109-9f94dcd15c0e
SUMMARY:12ab arvutiõpetuse kvalifikatsioonieksam
DTSTAMP:20220606
DTSTART:20220606
DTEND:20220607
DURATION:P1D
LOCATION:
DESCRIPTION: <p><strong>Link: </strong>https://nrg.edu.ee/et/sundmuste-kalender/12ab-arvutiopetuse-kvalifikatsioonieksam</p><p><strong>Hind: </strong></p>
STATUS:CONFIRMED
SEQUENCE:3
X-ALT-DESC;FMTTYPE=text/html:<p><strong>Link: </strong>https://nrg.edu.ee/et/sundmuste-kalender/12ab-arvutiopetuse-kvalifikatsioonieksam</p><p><strong>Hind: </strong></p>
X-MICROSOFT-CDO-BUSYSTATUS:OOF
X-MICROSOFT-CDO-IMPORTANCE:1
X-MICROSOFT-DISALLOW-COUNTER:FALSE
X-MS-OLK-ALLOWEXTERNCHECK:TRUE
X-MS-OLK-CONFTYPE:0
X-MICROSOFT-CDO-ALLDAYEVENT:1
X-MICROSOFT-MSNCALENDAR-ALLDAYEVENT:1
END:VEVENT
END:VCALENDAR