BEGIN:VCALENDAR
PRODID:-//Microsoft Corporation//Outlook 12.0 MIMEDIR//EN
VERSION:2.0
CALSCALE:GREGORIAN
BEGIN:VEVENT
UID: 519ec35d-4dc3-4456-988a-5dc84efe5eca
SUMMARY:11. kl. UPT eelkaitsmised
DTSTAMP:20220131
DTSTART:20220131
DTEND:20220205
DURATION:P5D
LOCATION:
DESCRIPTION: <p><strong>Link: </strong>https://nrg.edu.ee/et/sundmuste-kalender/11-kl-upt-eelkaitsmised</p><p><strong>Hind: </strong></p>
STATUS:CONFIRMED
SEQUENCE:3
X-ALT-DESC;FMTTYPE=text/html:<p><strong>Link: </strong>https://nrg.edu.ee/et/sundmuste-kalender/11-kl-upt-eelkaitsmised</p><p><strong>Hind: </strong></p>
X-MICROSOFT-CDO-BUSYSTATUS:OOF
X-MICROSOFT-CDO-IMPORTANCE:1
X-MICROSOFT-DISALLOW-COUNTER:FALSE
X-MS-OLK-ALLOWEXTERNCHECK:TRUE
X-MS-OLK-CONFTYPE:0
X-MICROSOFT-CDO-ALLDAYEVENT:1
X-MICROSOFT-MSNCALENDAR-ALLDAYEVENT:1
END:VEVENT
END:VCALENDAR