BEGIN:VCALENDAR
PRODID:-//Microsoft Corporation//Outlook 12.0 MIMEDIR//EN
VERSION:2.0
CALSCALE:GREGORIAN
BEGIN:VEVENT
UID: ac7be70f-77c3-47bc-8ff5-9f447d5ab423
SUMMARY:Vene keel võõrkeelena olümpiaadi lõppvoor
DTSTAMP:20260310
DTSTART:20260310
DTEND:20260311
DURATION:P1D
LOCATION:
DESCRIPTION: <p><strong>Link: </strong>https://nrg.edu.ee/et/sundmuste-kalender/vene-keel-voorkeelena-olumpiaadi-loppvoor</p><p><strong>Hind: </strong></p>
STATUS:CONFIRMED
SEQUENCE:3
X-ALT-DESC;FMTTYPE=text/html:<p><strong>Link: </strong>https://nrg.edu.ee/et/sundmuste-kalender/vene-keel-voorkeelena-olumpiaadi-loppvoor</p><p><strong>Hind: </strong></p>
X-MICROSOFT-CDO-BUSYSTATUS:OOF
X-MICROSOFT-CDO-IMPORTANCE:1
X-MICROSOFT-DISALLOW-COUNTER:FALSE
X-MS-OLK-ALLOWEXTERNCHECK:TRUE
X-MS-OLK-CONFTYPE:0
X-MICROSOFT-CDO-ALLDAYEVENT:1
X-MICROSOFT-MSNCALENDAR-ALLDAYEVENT:1
END:VEVENT
END:VCALENDAR